BEGIN:VCALENDAR
PRODID:-//github.com/rianjs/ical.net//NONSGML ical.net 4.0//EN
VERSION:2.0
BEGIN:VEVENT
DESCRIPTION:Details:\nhttps://bbyo.org/bbyo-near-you/regions/lake-ontario-
 region/lor-2016-03-19-volunteer-opp-pjcc-purim-carnival
DTEND:20160319T210000
DTSTAMP:20260423T095220Z
DTSTART:20160319T180000
LOCATION:Prosserman JCC
SEQUENCE:0
SUMMARY:LOR 2016-03-19 - VOLUNTEER OPP PJCC Purim Carnival
UID:02e023ea-3e22-423c-b9d9-012310273e92
END:VEVENT
END:VCALENDAR
