BEGIN:VCALENDAR
PRODID:-//github.com/rianjs/ical.net//NONSGML ical.net 4.0//EN
VERSION:2.0
BEGIN:VEVENT
DESCRIPTION:Details:\nhttps://bbyo.org/bbyo-near-you/regions/greater-jerse
 y-region/26th-northern-council-aza-elections
DTEND:20240505T140000
DTSTAMP:20260423T215020Z
DTSTART:20240505T100000
LOCATION:Wayne New Jersey
SEQUENCE:0
SUMMARY:26th Northern Council AZA Elections
UID:a49f147e-42db-4406-b8ac-29481c4026dd
END:VEVENT
END:VCALENDAR
