BEGIN:VCALENDAR
PRODID:-//github.com/rianjs/ical.net//NONSGML ical.net 4.0//EN
VERSION:2.0
BEGIN:VEVENT
DESCRIPTION:Details:\nhttps://bbyo.org/bbyo-near-you/regions/central-regio
 n-west/hoc-ice-night
DTEND:20220205T220000
DTSTAMP:20260419T190416Z
DTSTART:20220205T180000
LOCATION:Meeting at the APJCC
SEQUENCE:0
SUMMARY:HoC Ice Night
UID:c52f5571-c936-4cff-9fb6-ccf5bc15a8f6
END:VEVENT
END:VCALENDAR
