BEGIN:VCALENDAR
PRODID:-//github.com/rianjs/ical.net//NONSGML ical.net 4.0//EN
VERSION:2.0
BEGIN:VEVENT
DESCRIPTION:Details:\nhttps://bbyo.org/bbyo-near-you/regions/liberty-regio
 n/syracuse/syracuse-bbyo-paintball
DTEND:20240519T160000
DTSTAMP:20260423T162300Z
DTSTART:20240519T140000
LOCATION:Constantia New York
SEQUENCE:0
SUMMARY:Syracuse BBYO Paintball
UID:39be765e-cf1b-42be-92f3-b7a652aa72df
END:VEVENT
END:VCALENDAR
