BEGIN:VCALENDAR
PRODID:-//github.com/rianjs/ical.net//NONSGML ical.net 4.0//EN
VERSION:2.0
BEGIN:VEVENT
DESCRIPTION:Details:\nhttps://bbyo.org/bbyo-near-you/regions/connecticut-v
 alley-region/bbyo-cvr-summer-cltc-connect-(lower-fairfield-coun\n\nSummar
 y:\nExplore the foundations of leadership together through team building\
 , project challenges\, interactive content\, and customized learning oppo
 rtunities. Participants in the program will develop
DTEND:20200716T123000
DTSTAMP:20260422T101235Z
DTSTART:20200706T103000
LOCATION:
SEQUENCE:0
SUMMARY:BBYO CVR Summer - CLTC Connect (Lower Fairfield County)
UID:e3bab0eb-3ea7-40ef-95b7-4944c97970f2
END:VEVENT
END:VCALENDAR
