BEGIN:VCALENDAR
PRODID:-//github.com/rianjs/ical.net//NONSGML ical.net 4.0//EN
VERSION:2.0
BEGIN:VEVENT
DESCRIPTION:Details:\nhttps://bbyo.org/bbyo-near-you/regions/evergreen-reg
 ion/portland-bbg-founder-s-day-event
DTEND:20240419T210000
DTSTAMP:20260422T054422Z
DTSTART:20240419T183000
LOCATION:Portland Oregon
SEQUENCE:0
SUMMARY:Portland BBG Founder's Day Event
UID:ea7d1868-3044-4b66-b21f-ad00e97b945a
END:VEVENT
END:VCALENDAR
