BEGIN:VCALENDAR
PRODID:-//github.com/rianjs/ical.net//NONSGML ical.net 4.0//EN
VERSION:2.0
BEGIN:VEVENT
DESCRIPTION:Details:\nhttps://bbyo.org/bbyo-near-you/regions/central-regio
 n-west/central-region-west-winter-kickoff\n\nSummary:\nJoin all of Centra
 l Region West BBYO to skate the night away at the San Jose Shark's practi
 ce rink!
DTEND:20200111T220000
DTSTAMP:20260419T123223Z
DTSTART:20200111T193000
LOCATION:San Jose California
SEQUENCE:0
SUMMARY:Central Region West: Winter Kickoff
UID:2a54baaa-f858-4390-8ccc-e9deb1b05904
END:VEVENT
END:VCALENDAR
