BEGIN:VCALENDAR
PRODID:-//github.com/rianjs/ical.net//NONSGML ical.net 4.0//EN
VERSION:2.0
BEGIN:VEVENT
DESCRIPTION:Details:\nhttps://bbyo.org/bbyo-near-you/regions/big-apple-reg
 ion/post-convention-dance-2006
DTEND:20060325T200000
DTSTAMP:20260423T082015Z
DTSTART:20060325T200000
LOCATION:Madison Jewish Center
SEQUENCE:0
SUMMARY:Post Convention Dance 2006
UID:9d8bae3e-9942-4b3d-a223-4dca8fa480cb
END:VEVENT
END:VCALENDAR
