BEGIN:VCALENDAR
PRODID:-//github.com/rianjs/ical.net//NONSGML ical.net 4.0//EN
VERSION:2.0
BEGIN:VEVENT
DESCRIPTION:Details:\nhttps://bbyo.org/bbyo-near-you/regions/south-jersey-
 region/sjr-fall-regional-intake-meet-the-chapters
DTEND:20220918T180000
DTSTAMP:20260422T113403Z
DTSTART:20220918T150000
LOCATION:Cherry Hill New Jersey
SEQUENCE:0
SUMMARY:SJR Fall Regional Intake- Meet the Chapters
UID:121d33b2-9678-495b-a143-f0a02e75839e
END:VEVENT
END:VCALENDAR
