BEGIN:VCALENDAR
PRODID:-//github.com/rianjs/ical.net//NONSGML ical.net 4.0//EN
VERSION:2.0
BEGIN:VEVENT
DESCRIPTION:Details:\nhttps://bbyo.org/bbyo-near-you/regions/northern-regi
 on-east-dc-council/council-close-out-(1)
DTEND:20230521T150000
DTSTAMP:20260423T200923Z
DTSTART:20230521T130000
LOCATION:Rockville Maryland
SEQUENCE:0
SUMMARY:Council Close-Out
UID:ff3f1b37-5621-4a0c-b964-30cd1b1ec73c
END:VEVENT
END:VCALENDAR
