BEGIN:VCALENDAR
PRODID:-//github.com/rianjs/ical.net//NONSGML ical.net 4.0//EN
VERSION:2.0
BEGIN:VEVENT
DESCRIPTION:Details:\nhttps://bbyo.org/bbyo-near-you/regions/greater-jerse
 y-region/regional-leadership-training-conference-2024-(chap\n\nSummary:\n
 Join Greater Jersey BBYO's 26th Council Board for a day of position devel
 opment and leadership training for the upcoming programming year.  This d
 ay will be chock full of programming to set you and your entire chapter b
 oard up for incredible year ahead!\n\nThe cost of this event is $100 whic
 h will cover lunch\, programming supplies\, guest program facilitators an
 d more.  \n\nTraining will be held at a hotel located in the Meadowlands 
 area from 10am-4:30pm.  Busing will be provided from Marlboro ONLY.  Teen
  driving is also allowed!!  \n\nThere are NO refunds on cancellations fol
 lowing the close of registration on August 11th\, 2024.  All cancellation
 s prior to August 11th will be honored (minus a $36 administrative fee.) 
 \n\n
DTEND:20240827T163000
DTSTAMP:20260423T114148Z
DTSTART:20240827T100000
LOCATION:Secaucus  New Jersey
SEQUENCE:0
SUMMARY:Regional Leadership Training Conference 2024 (Chapter Board Member
 s)
UID:b2ef3f05-b879-4390-813e-4cab1c8c564a
END:VEVENT
END:VCALENDAR
