BEGIN:VCALENDAR
PRODID:-//github.com/rianjs/ical.net//NONSGML ical.net 4.0//EN
VERSION:2.0
BEGIN:VEVENT
DESCRIPTION:Details:\nhttps://bbyo.org/bbyo-near-you/regions/keystone-moun
 tain-region/bbg-rush-week-(1)\n\nSummary:\nJoin the BBG's of KMR for a Ru
 sh Week like no other! Check out our schedule below: \n\n
DTEND:20210320T204500
DTSTAMP:20260422T101326Z
DTSTART:20210320T203000
LOCATION:Zoom
SEQUENCE:0
SUMMARY:BBG Rush Week
UID:e7f8598f-5ee4-4226-a5c4-f6648ce71a76
END:VEVENT
END:VCALENDAR
