BEGIN:VCALENDAR
PRODID:-//github.com/rianjs/ical.net//NONSGML ical.net 4.0//EN
VERSION:2.0
BEGIN:VEVENT
DESCRIPTION:Details:\nhttps://bbyo.org/bbyo-near-you/regions/mountain-regi
 on/regional-board-execs-weekend
DTEND:20230813T110000
DTSTAMP:20260423T042649Z
DTSTART:20230811T170000
LOCATION:Scottsdale JCC
SEQUENCE:0
SUMMARY:Regional Board Execs Weekend
UID:5e539d4f-2975-4c5e-9d16-3b78768b9410
END:VEVENT
END:VCALENDAR
