BEGIN:VCALENDAR
PRODID:-//github.com/rianjs/ical.net//NONSGML ical.net 4.0//EN
VERSION:2.0
BEGIN:VEVENT
DESCRIPTION:Details:\nhttps://bbyo.org/bbyo-near-you/regions/nassau-suffol
 k-region/nsr-azaa-basketball-league-(1)
DTEND:20240225T150000
DTSTAMP:20260422T101120Z
DTSTART:20240225T123000
LOCATION:Mercaz Academy
SEQUENCE:0
SUMMARY:NSR AZAA Basketball League
UID:3c127abf-ad60-4cd5-a9cb-f173658cdf9b
END:VEVENT
END:VCALENDAR
