BEGIN:VCALENDAR
PRODID:-//github.com/rianjs/ical.net//NONSGML ical.net 4.0//EN
VERSION:2.0
BEGIN:VEVENT
DESCRIPTION:Details:\nhttps://bbyo.org/bbyo-near-you/regions/hudson-valley
 -region/bbyo-goes-to-the-knicks
DTEND:20220123T160000
DTSTAMP:20260421T110758Z
DTSTART:20220123T110000
LOCATION:Madison Square Garden
SEQUENCE:0
SUMMARY:BBYO Goes to the Knicks
UID:0afc7d11-b246-4cb4-9b8f-ef26fa9b9b10
END:VEVENT
END:VCALENDAR
