BEGIN:VCALENDAR
PRODID:-//github.com/rianjs/ical.net//NONSGML ical.net 4.0//EN
VERSION:2.0
BEGIN:VEVENT
DESCRIPTION:Details:\nhttps://bbyo.org/bbyo-near-you/regions/rocky-mountai
 n-region/teen-connection-membership-event
DTEND;VALUE=DATE:20070630
DTSTAMP:20260421T043144Z
DTSTART;VALUE=DATE:20060901
LOCATION:
SEQUENCE:0
SUMMARY:Teen Connection Membership Event
UID:7276fead-3a61-45a1-ab72-95286d0183e9
END:VEVENT
END:VCALENDAR
