BEGIN:VCALENDAR
PRODID:-//github.com/rianjs/ical.net//NONSGML ical.net 4.0//EN
VERSION:2.0
BEGIN:VEVENT
DESCRIPTION:Details:\nhttps://bbyo.org/bbyo-near-you/regions/northwest-can
 ada-region/spring-convention-(1)\n\nSummary:\nEnd of year final conventio
 n for fourth years to give their life membership speeches. New boards are
  elected and installed. A weekend for fourth years and new board members.
DTEND:20070527T150000
DTSTAMP:20260420T180505Z
DTSTART:20070525T180000
LOCATION:Camp B'nai B'rith Pine Lake
SEQUENCE:0
SUMMARY:Spring Convention
UID:2e7a745d-a154-411a-8260-9bb21299b51d
END:VEVENT
END:VCALENDAR
