BEGIN:VCALENDAR
PRODID:-//github.com/rianjs/ical.net//NONSGML ical.net 4.0//EN
VERSION:2.0
BEGIN:VEVENT
DESCRIPTION:Details:\nhttps://bbyo.org/bbyo-near-you/regions/northern-regi
 on-east-baltimore-council/baltimore-council-spring-rush!-(and-parent-info
 -se
DTEND:20240128T203000
DTSTAMP:20260423T081825Z
DTSTART:20240128T183000
LOCATION:Baltimore Maryland
SEQUENCE:0
SUMMARY:Baltimore Council Spring Rush! (and parent info session!) Bowling 
 at Stoneleigh
UID:de0b0e58-9b79-4d8a-8fcc-362060ce3ca5
END:VEVENT
END:VCALENDAR
