BEGIN:VCALENDAR
PRODID:-//github.com/rianjs/ical.net//NONSGML ical.net 4.0//EN
VERSION:2.0
BEGIN:VEVENT
DESCRIPTION:Details:\nhttps://bbyo.org/bbyo-near-you/regions/wisconsin-reg
 ion/wi2023-placement-day-for-members
DTEND:20230205T150000
DTSTAMP:20260423T200644Z
DTSTART:20230205T124500
LOCATION:BBYO OFFICES
SEQUENCE:0
SUMMARY:WI2023-Placement Day for Members
UID:f58cd7dc-ef4c-490c-aaf2-8b72194c6313
END:VEVENT
END:VCALENDAR
