BEGIN:VCALENDAR
PRODID:-//github.com/rianjs/ical.net//NONSGML ical.net 4.0//EN
VERSION:2.0
BEGIN:VEVENT
DESCRIPTION:Details:\nhttps://bbyo.org/bbyo-near-you/regions/mid-america-r
 egion-omaha-council/mar-spring-regional-convention-(3)
DTEND:20220501T140000
DTSTAMP:20260423T201045Z
DTSTART:20220429T150000
LOCATION:Rocky Mount Missouri
SEQUENCE:0
SUMMARY:MAR Spring Regional Convention
UID:6213655f-2b80-44cb-bc02-6c49fd1082e8
END:VEVENT
END:VCALENDAR
