BEGIN:VCALENDAR
PRODID:-//github.com/rianjs/ical.net//NONSGML ical.net 4.0//EN
VERSION:2.0
BEGIN:VEVENT
DESCRIPTION:Details:\nhttps://bbyo.org/bbyo-near-you/regions/central-regio
 n-west/sisterhood-weekend-2016\n\nSummary:\nStaff: Amanda Cohen\, others 
 TBA
DTEND:20160312T170000
DTSTAMP:20260423T002201Z
DTSTART:20160311T180000
LOCATION:bebop
SEQUENCE:0
SUMMARY:Sisterhood Weekend 2016
UID:ea41d996-883b-4120-9186-1d3371695df6
END:VEVENT
END:VCALENDAR
