BEGIN:VCALENDAR
PRODID:-//github.com/rianjs/ical.net//NONSGML ical.net 4.0//EN
VERSION:2.0
BEGIN:VEVENT
DESCRIPTION:Details:\nhttps://bbyo.org/bbyo-near-you/regions/greater-jerse
 y-region/bbyo-connect-temple-b-nai-abraham\n\nSummary:\nTemple B'nai Abra
 ham BBYO Connect event
DTEND:20150519T180000
DTSTAMP:20260423T195852Z
DTSTART:20150519T160000
LOCATION:Temple B'nai Abraham
SEQUENCE:0
SUMMARY:BBYO Connect Temple B'nai Abraham
UID:2331933c-fadc-4d3d-8412-3bb22de38de9
END:VEVENT
END:VCALENDAR
