BEGIN:VCALENDAR
PRODID:-//github.com/rianjs/ical.net//NONSGML ical.net 4.0//EN
VERSION:2.0
BEGIN:VEVENT
DESCRIPTION:Details:\nhttps://bbyo.org/bbyo-near-you/regions/hudson-valley
 -region/scarsdale-high-summer-fair
DTEND:20230117T210000
DTSTAMP:20260423T195257Z
DTSTART:20230117T190000
LOCATION:Scarsdale High School
SEQUENCE:0
SUMMARY:Scarsdale High Summer Fair
UID:dea9ea01-1438-494c-961b-289584495906
END:VEVENT
END:VCALENDAR
