BEGIN:VCALENDAR
PRODID:-//github.com/rianjs/ical.net//NONSGML ical.net 4.0//EN
VERSION:2.0
BEGIN:VEVENT
DESCRIPTION:Details:\nhttps://bbyo.org/bbyo-near-you/regions/mountain-regi
 on/tucson-spring-kickoff\n\nSummary:\nLet's bowl! Join us on March 3rd fo
 r pizza and bowling from 4 - 6pm!
DTEND:20190303T180000
DTSTAMP:20260419T123040Z
DTSTART:20190303T160000
LOCATION:Tucson Arizona
SEQUENCE:0
SUMMARY:Tucson Spring Kickoff
UID:2eeed4f1-a5bd-4159-bad5-0ba45519e4d7
END:VEVENT
END:VCALENDAR
