BEGIN:VCALENDAR
PRODID:-//github.com/rianjs/ical.net//NONSGML ical.net 4.0//EN
VERSION:2.0
BEGIN:VEVENT
DESCRIPTION:Details:\nhttps://bbyo.org/bbyo-near-you/regions/michigan-regi
 on/mi-ylc-2016-regular-registration-pc3000
DTEND:20161023T110000
DTSTAMP:20260425T182937Z
DTSTART:20161021T153000
LOCATION:Butzel Retreat Center
SEQUENCE:0
SUMMARY:MI YLC 2016 - Regular Registration PC3000
UID:baf868d0-02e7-4331-a61f-6d2f6f718e04
END:VEVENT
END:VCALENDAR
