BEGIN:VCALENDAR
PRODID:-//github.com/rianjs/ical.net//NONSGML ical.net 4.0//EN
VERSION:2.0
BEGIN:VEVENT
DESCRIPTION:Details:\nhttps://bbyo.org/bbyo-near-you/regions/michigan-regi
 on/regional-convention-2019-for-8th-graders
DTEND:20191224T200000
DTSTAMP:20260422T202313Z
DTSTART:20191221T180000
LOCATION:West Bloomfield Michigan
SEQUENCE:0
SUMMARY:Regional Convention 2019 for 8th Graders
UID:125e6644-c71a-42ed-a2f4-c0db847fd1e0
END:VEVENT
END:VCALENDAR
