BEGIN:VCALENDAR
PRODID:-//github.com/rianjs/ical.net//NONSGML ical.net 4.0//EN
VERSION:2.0
BEGIN:VEVENT
DESCRIPTION:Details:\nhttps://bbyo.org/bbyo-near-you/regions/great-midwest
 -region/spring-convention-2021\n\nSummary:\nJoin teens from accross Illin
 ois for a weekend full of connecting with new and old friends\, building 
 community\, hearing from guest speakers\, celebrating our graduating seni
 ors\, taking part in electing our next Regional Baord\, being a part of o
 ur first ever Spring Convention Track Programs\, and SO MUCH MORE!\n\nNEW
 !  This year we will be offering three track options as part of the weeke
 nds programming. You will be with your tracks for part of the day Saturda
 y\, but there will still be plenty of time to connect with others not in 
 your track. Each track will have programming and include a guest speaker!
  Learn more about the different options here before registering. \n\nInno
 vate: This track is all about making your own path! Learn about entrepren
 eurship\, business\, and more.\n\nCreativity: This track focuses on music
  and art through Judaism! Learn to song lead and express yourself through
  art with no previous art or music skill required. \n\nMovement and mind:
  This track is all about being active and expressing yourself through mov
 ement. No matter if you like competitive sports\, dance\, or yoga\, this 
 track will include all of it.
DTEND;VALUE=DATE:20210425
DTSTAMP:20260419T160354Z
DTSTART;VALUE=DATE:20210423
LOCATION:Zoom - links will be distributed prior to the event start date
SEQUENCE:0
SUMMARY:Spring Convention 2021
UID:9e1429f1-de26-457a-b861-a56ff53deadb
END:VEVENT
END:VCALENDAR
