BEGIN:VCALENDAR
PRODID:-//github.com/rianjs/ical.net//NONSGML ical.net 4.0//EN
VERSION:2.0
BEGIN:VEVENT
DESCRIPTION:Details:\nhttps://bbyo.org/bbyo-near-you/regions/northern-regi
 on-east-dc-council/hoco-and-district-pre-execs-dinner\n\nSummary:\nAll Ho
 Co and District chapter leaders are invited to join the DC Council Board 
 and staff to kick off Chapter Execs with pizza in the office! We're hopin
 g to have the opportunity to engage in
DTEND:20190908T173000
DTSTAMP:20260423T084028Z
DTSTART:20190908T163000
LOCATION:Rockville Maryland
SEQUENCE:0
SUMMARY:HoCo and District Pre-Execs Dinner
UID:fa79af29-e871-4acf-be2b-0a678be23676
END:VEVENT
END:VCALENDAR
