BEGIN:VCALENDAR
PRODID:-//github.com/rianjs/ical.net//NONSGML ical.net 4.0//EN
VERSION:2.0
BEGIN:VEVENT
DESCRIPTION:Details:\nhttps://bbyo.org/bbyo-near-you/regions/michigan-regi
 on/azaa-flag-football
DTEND:20181028T150000
DTSTAMP:20260423T081715Z
DTSTART:20180916T110000
LOCATION:West Bloomfield Michigan
SEQUENCE:0
SUMMARY:AZAA Flag Football
UID:883bec15-ef99-4f4a-b33f-fc1960f6015f
END:VEVENT
END:VCALENDAR
