BEGIN:VCALENDAR
PRODID:-//github.com/rianjs/ical.net//NONSGML ical.net 4.0//EN
VERSION:2.0
BEGIN:VEVENT
DESCRIPTION:Details:\nhttps://bbyo.org/bbyo-near-you/regions/north-texas-o
 klahoma-region/chapter-counterpart-meeting
DTEND:20240225T150000
DTSTAMP:20260419T185740Z
DTSTART:20240225T140000
LOCATION:
SEQUENCE:0
SUMMARY:Chapter Counterpart Meeting
UID:ec883b18-1e94-4bd9-a1ee-7c5d6de699d1
END:VEVENT
END:VCALENDAR
