BEGIN:VCALENDAR
PRODID:-//github.com/rianjs/ical.net//NONSGML ical.net 4.0//EN
VERSION:2.0
BEGIN:VEVENT
DESCRIPTION:Details:\nhttps://bbyo.org/bbyo-near-you/regions/south-jersey-
 region/fall-festival-shift-1\n\nSummary:\nJCC Camps at Medford and the Ka
 tz JCC is holding a Fall Festival and we are helping out! We need volunte
 ers to help out running activities and more!. You will be able to earn vo
 lunteer hours
DTEND:20150927T140000
DTSTAMP:20260423T042654Z
DTSTART:20150927T110000
LOCATION:JCC Camps at Medford
SEQUENCE:0
SUMMARY:Fall Festival Shift #1
UID:6b87d601-c0f7-45b4-aa4a-4680f7e65b80
END:VEVENT
END:VCALENDAR
