BEGIN:VCALENDAR
PRODID:-//github.com/rianjs/ical.net//NONSGML ical.net 4.0//EN
VERSION:2.0
BEGIN:VEVENT
DESCRIPTION:Details:\nhttps://bbyo.org/bbyo-near-you/regions/nassau-suffol
 k-region/nsr-battle-of-the-classes-2023
DTEND:20230507T153000
DTSTAMP:20260424T063412Z
DTSTART:20230507T133000
LOCATION:West Hills New York
SEQUENCE:0
SUMMARY:NSR Battle of the Classes 2023
UID:1de9750d-4eab-4ad8-adfd-2b3ef868bf66
END:VEVENT
END:VCALENDAR
