BEGIN:VCALENDAR
PRODID:-//github.com/rianjs/ical.net//NONSGML ical.net 4.0//EN
VERSION:2.0
BEGIN:VEVENT
DESCRIPTION:Details:\nhttps://bbyo.org/bbyo-near-you/regions/north-texas-o
 klahoma-region/azaa-flag-football-lewis-vs-brandeis
DTEND:20231022T180000
DTSTAMP:20260423T200332Z
DTSTART:20231022T170000
LOCATION:Dallas Texas
SEQUENCE:0
SUMMARY:AZAA: Flag Football Lewis vs Brandeis
UID:1d21c784-ae4a-4bf2-8990-3ef808c31691
END:VEVENT
END:VCALENDAR
