BEGIN:VCALENDAR
PRODID:-//github.com/rianjs/ical.net//NONSGML ical.net 4.0//EN
VERSION:2.0
BEGIN:VEVENT
DESCRIPTION:Details:\nhttps://bbyo.org/bbyo-near-you/regions/nassau-suffol
 k-region/aza-basketball-1-24\n\nSummary:\nMacabbee & Samson AZA Basketbal
 l Game
DTEND:20060124T220000
DTSTAMP:20260424T105526Z
DTSTART;VALUE=DATE:20060124
LOCATION:Commack Middle School Gym
SEQUENCE:0
SUMMARY:AZA Basketball 1/24
UID:600efb0a-0745-4f7c-8a5b-5a5b529665cb
END:VEVENT
END:VCALENDAR
