BEGIN:VCALENDAR
PRODID:-//github.com/rianjs/ical.net//NONSGML ical.net 4.0//EN
VERSION:2.0
BEGIN:VEVENT
DESCRIPTION:Details:\nhttps://bbyo.org/bbyo-near-you/regions/northern-regi
 on-east-dc-council/nre-ic-swag-pack-2019-(shirts-only)
DTEND:20190218T235900
DTSTAMP:20260421T010724Z
DTSTART;VALUE=DATE:20190214
LOCATION:
SEQUENCE:0
SUMMARY:NRE IC Swag Pack 2019 (SHIRTS ONLY)
UID:d5451c7f-c3bb-44fe-9f83-08c773711f5f
END:VEVENT
END:VCALENDAR
