BEGIN:VCALENDAR
PRODID:-//github.com/rianjs/ical.net//NONSGML ical.net 4.0//EN
VERSION:2.0
BEGIN:VEVENT
DESCRIPTION:Details:\nhttps://bbyo.org/bbyo-near-you/regions/northern-regi
 on-east-northern-virginia-council/nova-fall-chapter-execs
DTEND:20210901T210000
DTSTAMP:20260420T133110Z
DTSTART:20210831T180000
LOCATION:Multiple Locations
SEQUENCE:0
SUMMARY:NoVA Fall Chapter Execs
UID:06469710-13bc-4aad-8362-78ae12ac6412
END:VEVENT
END:VCALENDAR
