BEGIN:VCALENDAR
PRODID:-//github.com/rianjs/ical.net//NONSGML ical.net 4.0//EN
VERSION:2.0
BEGIN:VEVENT
DESCRIPTION:Details:\nhttps://bbyo.org/bbyo-near-you/regions/miami-region/
 solidarity-rally-for-israel-w-local-jewish-agencie\n\nSummary:\nSolidarty
  rally for the Miami Community.  Teens are invited. Donations are being a
 ccepted for boardgames\, toys\, books\, puzzles or anything you would lik
 e to donate for teens that sometimes s
DTEND:20060810T130000
DTSTAMP:20260423T002232Z
DTSTART:20060811T120000
LOCATION:@ the Alper JCC
SEQUENCE:0
SUMMARY:Solidarity Rally for Israel w/local Jewish Agencies
UID:e2bb3431-c395-45cb-81a2-f715c32f6726
END:VEVENT
END:VCALENDAR
