BEGIN:VCALENDAR
PRODID:-//github.com/rianjs/ical.net//NONSGML ical.net 4.0//EN
VERSION:2.0
BEGIN:VEVENT
DESCRIPTION:Details:\nhttps://bbyo.org/bbyo-near-you/regions/liberty-regio
 n/giving-bbyo-day-ambassador-training
DTEND:20221117T200000
DTSTAMP:20260422T003717Z
DTSTART:20221117T190000
LOCATION:Zoom
SEQUENCE:0
SUMMARY:Giving BBYO Day Ambassador Training
UID:d686df61-cb57-4e4c-b1c7-cefaaee60759
END:VEVENT
END:VCALENDAR
