BEGIN:VCALENDAR
PRODID:-//github.com/rianjs/ical.net//NONSGML ical.net 4.0//EN
VERSION:2.0
BEGIN:VEVENT
DESCRIPTION:Details:\nhttps://bbyo.org/bbyo-near-you/regions/wisconsin-reg
 ion/wi-shin-shinim
DTEND:20231115T200000
DTSTAMP:20260419T145829Z
DTSTART:20231115T190000
LOCATION:Offices
SEQUENCE:0
SUMMARY:WI + Shin Shinim
UID:d23b0008-d499-464e-868b-8ff62a8ea8ba
END:VEVENT
END:VCALENDAR
