BEGIN:VCALENDAR
PRODID:-//github.com/rianjs/ical.net//NONSGML ical.net 4.0//EN
VERSION:2.0
BEGIN:VEVENT
DESCRIPTION:Details:\nhttps://bbyo.org/bbyo-near-you/regions/greater-jerse
 y-region/gjhrr-central-council-spirit-weekend-2018\n\nSummary:\nJoin us f
 or Central Council's annual Spirit Convention\, where chapters compete ag
 ainst each other in a friendly rivalry throughout the weekend of skits\, 
 songs\, and other fun activities\, including a dance with Northern Counci
 l Saturday night! This is a home housed convention hosted in the Marlboro
 /Manalapan community. We ask members of Yad B Yad BBG\, Ruach BBG\, Tikva
 h BBG\, Marlboro AZA\, MS Manalapan AZA\, and Shalom BBYO to please open 
 their homes to other teens for this weekend. Busing is available only to 
 the T'sahal and Chaverim chapters. Chaverim will have  a bus leaving the 
 Basking Ridge area at 4:30pm promptly. and Tsahal will a bus leaving the 
 Clark area at 4:45 promptly for a 530 arrival in Marlboro. Scholarship wi
 ll only be available through November 26. Refunds will only be available 
 through November 30\, which are subject to a $36 administrative fee. Afte
 r December 1\, no refunds will be issued. Can't wait to see everyone ther
 e!\n\n***THIS REGISTRATION IS FOR CENTRAL COUNCIL ONLY!!!***
DTEND:20181216T150000
DTSTAMP:20260421T223736Z
DTSTART:20181214T173000
LOCATION:Marlboro New Jersey
SEQUENCE:0
SUMMARY:GJHRR Central Council Spirit Weekend 2018
UID:4f80df5d-f392-4319-8f1e-00cf082f3784
END:VEVENT
END:VCALENDAR
