BEGIN:VCALENDAR
PRODID:-//github.com/rianjs/ical.net//NONSGML ical.net 4.0//EN
VERSION:2.0
BEGIN:VEVENT
DESCRIPTION:Details:\nhttps://bbyo.org/bbyo-near-you/regions/new-england-r
 egion/bbyo-ner-prozdor-teen-open-circle-jewish-learning-\n\nSummary:\nNew
  program with Prozdor Teen Open Circle!
DTEND:20210926T203000
DTSTAMP:20260423T201045Z
DTSTART:20210926T190000
LOCATION:Zoom
SEQUENCE:0
SUMMARY:BBYO NER & Prozdor Teen Open Circle: Jewish Learning Sessions
UID:580f9ae1-2fbd-412a-af99-2c28e5a5de75
END:VEVENT
END:VCALENDAR
