BEGIN:VCALENDAR
PRODID:-//github.com/rianjs/ical.net//NONSGML ical.net 4.0//EN
VERSION:2.0
BEGIN:VEVENT
DESCRIPTION:Details:\nhttps://bbyo.org/bbyo-near-you/regions/wisconsin-reg
 ion/wi-bbg-soul-aerial-silks-5pm\n\nSummary:\nCome join your friends for 
 BBG S.O.U.L. (Strengthening Our Unique Lives) at Aerial Hippie!\n\nWe wil
 l be doing 2 aerial silks classes on this day\, one at 4 and one at 5. Th
 is myBBYO event is f
DTEND:20200308T180000
DTSTAMP:20260424T145603Z
DTSTART:20200308T170000
LOCATION:Milwaukee Wisconsin
SEQUENCE:0
SUMMARY:WI - BBG SOUL - Aerial Silks - 5pm
UID:1ded1fcf-749a-4bc1-9c9a-5f4a1ae88c7f
END:VEVENT
END:VCALENDAR
