BEGIN:VCALENDAR
PRODID:-//github.com/rianjs/ical.net//NONSGML ical.net 4.0//EN
VERSION:2.0
BEGIN:VEVENT
DESCRIPTION:Details:\nhttps://bbyo.org/bbyo-near-you/regions/northern-regi
 on-east-northern-virginia-council/northern-region-east-regional-conventio
 n-(2)\n\nSummary:\nFrom December 9 - December 11 more than 400 teens from
  across Northern Region East will gather for Regional Convention 2022 in 
 Arlington\, VA for NRE's spirit Convention!
DTEND:20221211T110000
DTSTAMP:20260426T013201Z
DTSTART:20221209T180000
LOCATION:
SEQUENCE:0
SUMMARY:NRE Regional Convention 2022 - Standard Pricing
UID:db70bd09-2dae-4bf9-9099-531911299831
END:VEVENT
END:VCALENDAR
