BEGIN:VCALENDAR
PRODID:-//github.com/rianjs/ical.net//NONSGML ical.net 4.0//EN
VERSION:2.0
BEGIN:VEVENT
DESCRIPTION:Details:\nhttps://bbyo.org/bbyo-near-you/regions/michigan-regi
 on/regional-convention-november-1\,-2020-spring-2021\n\nSummary:\nRegiona
 l Convention 2020-2021 will be bigger and better than ever with competiti
 ons throughout the school year.  Join us starting November 1st though Spr
 ing 2021 and have fun with your chapt
DTEND:20210331T120000
DTSTAMP:20260420T103348Z
DTSTART;VALUE=DATE:20210331
LOCATION:
SEQUENCE:0
SUMMARY:Regional Convention November 1\, 2020 - Spring 2021
UID:dd7d9b13-5c1b-40d8-9853-1bbcfbeb8032
END:VEVENT
END:VCALENDAR
