BEGIN:VCALENDAR
PRODID:-//github.com/rianjs/ical.net//NONSGML ical.net 4.0//EN
VERSION:2.0
BEGIN:VEVENT
DESCRIPTION:Details:\nhttps://bbyo.org/bbyo-near-you/regions/miami-region/
 spring-regional-convention
DTEND:20230402T120000
DTSTAMP:20260423T195853Z
DTSTART:20230331T170000
LOCATION:Sheraton Suites Fort Lauderdale at Cypress Creek
SEQUENCE:0
SUMMARY:Spring Regional Convention
UID:2fea2f4e-8045-4688-8dbc-82ed1e9afa0b
END:VEVENT
END:VCALENDAR
