BEGIN:VCALENDAR
PRODID:-//github.com/rianjs/ical.net//NONSGML ical.net 4.0//EN
VERSION:2.0
BEGIN:VEVENT
DESCRIPTION:Details:\nhttps://bbyo.org/bbyo-near-you/regions/north-texas-o
 klahoma-region/regional-convention-(5)\n\nSummary:\nWhat is Regional Conv
 ention?\nIt's a four-day event packed with joy\, learning\, face-to-face 
 connections\, hugs and high fives. Imagine sitting in a ballroom with hun
 dreds of leaders from aroun
DTEND:20190121T100000
DTSTAMP:20260422T101409Z
DTSTART:20190118T170000
LOCATION:Addison Texas
SEQUENCE:0
SUMMARY:Regional Convention
UID:13e5711e-2a9e-46a1-bcd3-1981c06e7c9a
END:VEVENT
END:VCALENDAR
