BEGIN:VCALENDAR
PRODID:-//github.com/rianjs/ical.net//NONSGML ical.net 4.0//EN
VERSION:2.0
BEGIN:VEVENT
DESCRIPTION:Details:\nhttps://bbyo.org/bbyo-near-you/regions/ohio-northern
 -region/cavs-game-with-onr-bbyo
DTEND:20180305T000100
DTSTAMP:20260425T182815Z
DTSTART;VALUE=DATE:20180305
LOCATION:
SEQUENCE:0
SUMMARY:Cavs Game with ONR BBYO
UID:57503af7-ea2b-4e6b-907d-76b2b4836778
END:VEVENT
END:VCALENDAR
