BEGIN:VCALENDAR
PRODID:-//github.com/rianjs/ical.net//NONSGML ical.net 4.0//EN
VERSION:2.0
BEGIN:VEVENT
DESCRIPTION:Details:\nhttps://bbyo.org/bbyo-near-you/regions/evergreen-reg
 ion/monday-meet-and-eat-5
DTEND:20200601T210000
DTSTAMP:20260422T101325Z
DTSTART:20200601T190000
LOCATION:
SEQUENCE:0
SUMMARY:Monday Meet and Eat #5
UID:b1fed89a-f5f8-42a0-8eb9-7cdc36c40cff
END:VEVENT
END:VCALENDAR
