BEGIN:VCALENDAR
PRODID:-//github.com/rianjs/ical.net//NONSGML ical.net 4.0//EN
VERSION:2.0
BEGIN:VEVENT
DESCRIPTION:Details:\nhttps://bbyo.org/bbyo-near-you/regions/mid-america-r
 egion-kansas-city-council/kc-bbyo-new-member-overnight\n\nSummary:\nCalli
 ng all new freshman! This evening is just for you\; come learn about BBYO
  in Kansas City from our cheers to our history\, enjoy s'mores and Havdal
 lah\, get to know the people in your class
DTEND:20151018T100000
DTSTAMP:20260423T201124Z
DTSTART:20151017T150000
LOCATION:The Cabins at Ironwoods Park
SEQUENCE:0
SUMMARY:KC BBYO New Member Overnight
UID:046de50c-4ec5-4a83-99df-d3417bcb9a40
END:VEVENT
END:VCALENDAR
