BEGIN:VCALENDAR
PRODID:-//github.com/rianjs/ical.net//NONSGML ical.net 4.0//EN
VERSION:2.0
BEGIN:VEVENT
DESCRIPTION:Details:\nhttps://bbyo.org/bbyo-near-you/regions/ohio-northern
 -region/onr-regional-convention-(1)
DTEND:20240512T103000
DTSTAMP:20260419T123041Z
DTSTART:20240510T173000
LOCATION:
SEQUENCE:0
SUMMARY:ONR Regional Convention
UID:dd893c12-fdf8-47a7-addc-07321dc9e2a1
END:VEVENT
END:VCALENDAR
